BEGIN:VCALENDAR
VERSION:2.0
PRODID:-//Spinning My Dad&#039;s Vinyl - ECPv6.13.2.1//NONSGML v1.0//EN
CALSCALE:GREGORIAN
METHOD:PUBLISH
X-WR-CALNAME:Spinning My Dad&#039;s Vinyl
X-ORIGINAL-URL:https://spinningmydadsvinyl.com
X-WR-CALDESC:Events for Spinning My Dad&#039;s Vinyl
REFRESH-INTERVAL;VALUE=DURATION:PT1H
X-Robots-Tag:noindex
X-PUBLISHED-TTL:PT1H
BEGIN:VTIMEZONE
TZID:America/New_York
BEGIN:DAYLIGHT
TZOFFSETFROM:-0500
TZOFFSETTO:-0400
TZNAME:EDT
DTSTART:20220313T070000
END:DAYLIGHT
BEGIN:STANDARD
TZOFFSETFROM:-0400
TZOFFSETTO:-0500
TZNAME:EST
DTSTART:20221106T060000
END:STANDARD
END:VTIMEZONE
BEGIN:VEVENT
DTSTART;TZID=America/New_York:20220109T150000
DTEND;TZID=America/New_York:20220109T153000
DTSTAMP:20260420T042802
CREATED:20211206T030727Z
LAST-MODIFIED:20211206T030727Z
UID:3669-1641740400-1641742200@spinningmydadsvinyl.com
SUMMARY:Volume 54: Alpert's Ninth
DESCRIPTION:Related
URL:https://spinningmydadsvinyl.com/volume/volume-54-alperts-ninth/
ATTACH;FMTTYPE=image/jpeg:https://spinningmydadsvinyl.com/wp-content/uploads/2022-Album-Covers/2022-1st-Half/Herb-Alperts-Ninth-Both-Covers-for-Site.jpg
END:VEVENT
END:VCALENDAR