BEGIN:VCALENDAR
VERSION:2.0
PRODID:-//Spinning My Dad&#039;s Vinyl - ECPv6.13.2.1//NONSGML v1.0//EN
CALSCALE:GREGORIAN
METHOD:PUBLISH
X-WR-CALNAME:Spinning My Dad&#039;s Vinyl
X-ORIGINAL-URL:https://spinningmydadsvinyl.com
X-WR-CALDESC:Events for Spinning My Dad&#039;s Vinyl
REFRESH-INTERVAL;VALUE=DURATION:PT1H
X-Robots-Tag:noindex
X-PUBLISHED-TTL:PT1H
BEGIN:VTIMEZONE
TZID:America/New_York
BEGIN:DAYLIGHT
TZOFFSETFROM:-0500
TZOFFSETTO:-0400
TZNAME:EDT
DTSTART:20210314T070000
END:DAYLIGHT
BEGIN:STANDARD
TZOFFSETFROM:-0400
TZOFFSETTO:-0500
TZNAME:EST
DTSTART:20211107T060000
END:STANDARD
END:VTIMEZONE
BEGIN:VEVENT
DTSTART;TZID=America/New_York:20210606T150000
DTEND;TZID=America/New_York:20210606T153000
DTSTAMP:20260420T140306
CREATED:20210207T210540Z
LAST-MODIFIED:20210412T014830Z
UID:378-1622991600-1622993400@spinningmydadsvinyl.com
SUMMARY:Volume 23: Anniversary Special for the Cafe Italiano
DESCRIPTION:This day would have been my parents’ 62nd Wedding Anniversary. Our house was always a “Cafe Italiano.” \n\n\n	Related
URL:https://spinningmydadsvinyl.com/volume/volume-23-anniversary-special-for-the-cafe-italiano/
ATTACH;FMTTYPE=image/jpeg:https://spinningmydadsvinyl.com/wp-content/uploads/2021-episodes-cover-art/2021-Q2-Album-Covers/Cafe-Italiano-Both-Covers.jpg
END:VEVENT
END:VCALENDAR