BEGIN:VCALENDAR
VERSION:2.0
PRODID:-//Spinning My Dad&#039;s Vinyl - ECPv6.13.2.1//NONSGML v1.0//EN
CALSCALE:GREGORIAN
METHOD:PUBLISH
X-WR-CALNAME:Spinning My Dad&#039;s Vinyl
X-ORIGINAL-URL:https://spinningmydadsvinyl.com
X-WR-CALDESC:Events for Spinning My Dad&#039;s Vinyl
REFRESH-INTERVAL;VALUE=DURATION:PT1H
X-Robots-Tag:noindex
X-PUBLISHED-TTL:PT1H
BEGIN:VTIMEZONE
TZID:America/New_York
BEGIN:DAYLIGHT
TZOFFSETFROM:-0500
TZOFFSETTO:-0400
TZNAME:EDT
DTSTART:20240310T070000
END:DAYLIGHT
BEGIN:STANDARD
TZOFFSETFROM:-0400
TZOFFSETTO:-0500
TZNAME:EST
DTSTART:20241103T060000
END:STANDARD
END:VTIMEZONE
BEGIN:VEVENT
DTSTART;TZID=America/New_York:20240107T150000
DTEND;TZID=America/New_York:20240107T153000
DTSTAMP:20260421T061004
CREATED:20231217T013614Z
LAST-MODIFIED:20231217T013614Z
UID:5846-1704639600-1704641400@spinningmydadsvinyl.com
SUMMARY:Volume 158: Hirt So Good
DESCRIPTION:Related
URL:https://spinningmydadsvinyl.com/volume/volume-158-hirt-so-good/
ATTACH;FMTTYPE=image/jpeg:https://spinningmydadsvinyl.com/wp-content/uploads/2024-album-covers/2024-1st-half/Hirt-Best-Both-Covers-for-site.jpg
END:VEVENT
END:VCALENDAR